{
 "version": 1.0,
 "tileBundlesPath": "./tile",
 "storageInfo": {
  "packetSize": 128,
  "storageFormat": "esriMapCacheStorageModeCompactV2"
 },
 "tileImageInfo": {
  "format": "MIXED",
  "compressionQuality": 75,
  "bandCount": 1,
  "lercError": 0
 },
 "tileInfo": {
  "spatialReference": {
   "wkid": 102100,
   "latestWkid": 3857
  },
  "origin": {
   "x": -2.0037508342787E7,
   "y": 2.0037508342787E7
  },
  "rows": 256,
  "cols": 256,
  "dpi": 96,
  "lods": [
   {
    "level": 0,
    "resolution": 156543.033928,
    "scale": 5.91657527591555E8
   },
   {
    "level": 1,
    "resolution": 78271.5169639999,
    "scale": 2.95828763795777E8
   },
   {
    "level": 2,
    "resolution": 39135.7584820001,
    "scale": 1.47914381897889E8
   },
   {
    "level": 3,
    "resolution": 19567.8792409999,
    "scale": 7.3957190948944E7
   },
   {
    "level": 4,
    "resolution": 9783.93962049996,
    "scale": 3.6978595474472E7
   },
   {
    "level": 5,
    "resolution": 4891.96981024998,
    "scale": 1.8489297737236E7
   },
   {
    "level": 6,
    "resolution": 2445.98490512499,
    "scale": 9244648.868618
   },
   {
    "level": 7,
    "resolution": 1222.99245256249,
    "scale": 4622324.434309
   },
   {
    "level": 8,
    "resolution": 611.49622628138,
    "scale": 2311162.217155
   },
   {
    "level": 9,
    "resolution": 305.748113140558,
    "scale": 1155581.108577
   },
   {
    "level": 10,
    "resolution": 152.874056570411,
    "scale": 577790.554289
   },
   {
    "level": 11,
    "resolution": 76.4370282850732,
    "scale": 288895.277144
   },
   {
    "level": 12,
    "resolution": 38.2185141425366,
    "scale": 144447.638572
   },
   {
    "level": 13,
    "resolution": 19.1092570712683,
    "scale": 72223.819286
   },
   {
    "level": 14,
    "resolution": 9.55462853563415,
    "scale": 36111.909643
   },
   {
    "level": 15,
    "resolution": 4.77731426794937,
    "scale": 18055.954822
   },
   {
    "level": 16,
    "resolution": 2.38865713397468,
    "scale": 9027.977411
   },
   {
    "level": 17,
    "resolution": 1.19432856685505,
    "scale": 4513.988705
   },
   {
    "level": 18,
    "resolution": 0.597164283559817,
    "scale": 2256.994353
   },
   {
    "level": 19,
    "resolution": 0.298582141647617,
    "scale": 1128.497176
   },
   {
    "level": 20,
    "resolution": 0.14929107082380833,
    "scale": 564.248588
   },
   {
    "level": 21,
    "resolution": 0.07464553541190416,
    "scale": 282.124294
   },
   {
    "level": 22,
    "resolution": 0.03732276770595208,
    "scale": 141.062147
   },
   {
    "level": 23,
    "resolution": 0.01866138385297604,
    "scale": 70.5310735
   }
  ],
  "format": "MIXED",
  "compressionQuality": 75,
  "bandCount": 1,
  "lercError": 0,
  "storageFormat": "esriMapCacheStorageModeCompactV2",
  "packetSize": 128
 },
 "name": "WacoAerialHybrid2020",
 "serviceDescription": "",
 "spatialReference": {
  "wkid": 102100,
  "latestWkid": 3857,
  "xyTolerance": 0.001,
  "zTolerance": 0.001,
  "mTolerance": 0.001,
  "falseX": -20037700,
  "falseY": -30241100,
  "xyUnits": 10000,
  "falseZ": -100000,
  "zUnits": 10000,
  "falseM": -100000,
  "mUnits": 10000
 },
 "units": "esriMeters",
 "minLOD": 0,
 "maxLOD": 20,
 "resampling": true,
 "layers": [
  {
   "id": 0,
   "name": "Streets",
   "parentLayerId": -1,
   "defaultVisibility": true,
   "subLayerIds": null,
   "minScale": 1155584,
   "maxScale": 1,
   "type": "Feature Layer",
   "geometryType": "esriGeometryPolyline",
   "supportsDynamicLegends": true,
   "legend": [
    {
     "label": "Interstate",
     "imageData": "iVBORw0KGgoAAAANSUhEUgAAABQAAAAUCAYAAACNiR0NAAAACXBIWXMAAA7EAAAOxAGVKw4bAAAANElEQVQ4jWNhoDJgGTVw1MBBZuBMCs1KRzFwAQODMSWmJUBpFiQBE0oMhIGhFSmjBg5XAwGtgQMYNe9PCgAAAABJRU5ErkJggg==",
     "contentType": "image/png",
     "groupId": "0",
     "height": 20,
     "width": 20,
     "values": [
      "INTERSTATE"
     ],
     "layerId": 0,
     "layerName": "Streets"
    },
    {
     "label": "Freeway",
     "imageData": "iVBORw0KGgoAAAANSUhEUgAAABQAAAAUCAYAAACNiR0NAAAACXBIWXMAAA7EAAAOxAGVKw4bAAAAOUlEQVQ4jWNhoDJgGTVw1MBBZuBMCs1KRzFwQUCAMSWmJWzYwIBiYMKGDSaUGAgDQytSRg0crgYCAHEHBni0G82bAAAAAElFTkSuQmCC",
     "contentType": "image/png",
     "groupId": "0",
     "height": 20,
     "width": 20,
     "values": [
      "FREEWAY"
     ],
     "layerId": 0,
     "layerName": "Streets"
    },
    {
     "label": "Frontage",
     "imageData": "iVBORw0KGgoAAAANSUhEUgAAABQAAAAUCAYAAACNiR0NAAAACXBIWXMAAA7EAAAOxAGVKw4bAAAALUlEQVQ4jWNhoDJgGTVw1MBhbeDZhoZNlBhk3NDgh2IgTIBSMITCcNTAYWwgAGdBBdIwdaU+AAAAAElFTkSuQmCC",
     "contentType": "image/png",
     "groupId": "0",
     "height": 20,
     "width": 20,
     "values": [
      "ENT RAMP",
      "EXIT RAMP",
      "FRONTAGE",
      "RAMP"
     ],
     "layerId": 0,
     "layerName": "Streets"
    },
    {
     "label": "Major",
     "imageData": "iVBORw0KGgoAAAANSUhEUgAAABQAAAAUCAYAAACNiR0NAAAACXBIWXMAAA7EAAAOxAGVKw4bAAAAN0lEQVQ4jWNhoDJgGTVw1MBBZmAahWbNQjHw0trMFEpM0wuejmqgXvB0M0oMhIGhFSmjBg5XAwEOSQad2EOc8wAAAABJRU5ErkJggg==",
     "contentType": "image/png",
     "groupId": "0",
     "height": 20,
     "width": 20,
     "values": [
      "ARTERIAL",
      "COLLECTOR"
     ],
     "layerId": 0,
     "layerName": "Streets"
    },
    {
     "label": "Local",
     "imageData": "iVBORw0KGgoAAAANSUhEUgAAABQAAAAUCAYAAACNiR0NAAAACXBIWXMAAA7EAAAOxAGVKw4bAAAANklEQVQ4jWNhoDJgGTVw1MBBZmAahWbNQjFw4sSJvpSYlp+fj2pgfn4+RQbCwNCKlFEDh6uBAI8GBtJquMbvAAAAAElFTkSuQmCC",
     "contentType": "image/png",
     "groupId": "0",
     "height": 20,
     "width": 20,
     "values": [
      "LOCAL"
     ],
     "layerId": 0,
     "layerName": "Streets"
    },
    {
     "label": "Private",
     "imageData": "iVBORw0KGgoAAAANSUhEUgAAABQAAAAUCAYAAACNiR0NAAAACXBIWXMAAA7EAAAOxAGVKw4bAAAALUlEQVQ4jWNhoDJgGTVw1MBhbWBGRkYDJQbNmDGjAcVAmAClYAiF4aiBw9hAAGRxBpmzjk1jAAAAAElFTkSuQmCC",
     "contentType": "image/png",
     "groupId": "0",
     "height": 20,
     "width": 20,
     "values": [
      "PRIVATE"
     ],
     "layerId": 0,
     "layerName": "Streets"
    }
   ],
   "layerId": 0,
   "layerName": "Streets",
   "serviceItemId": "8c71148afff84b68bc985542592ec81e"
  },
  {
   "id": 1,
   "name": "Waco City Limits",
   "parentLayerId": -1,
   "defaultVisibility": true,
   "subLayerIds": null,
   "minScale": 0,
   "maxScale": 0,
   "type": "Feature Layer",
   "geometryType": "esriGeometryPolygon",
   "supportsDynamicLegends": true,
   "legend": [
    {
     "label": "",
     "imageData": "iVBORw0KGgoAAAANSUhEUgAAABQAAAAUCAYAAACNiR0NAAAACXBIWXMAAA7EAAAOxAGVKw4bAAAAG0lEQVQ4jWNhoDJgGTVw1MBRA0cNHDVwpBoIABArAFHmDwDcAAAAAElFTkSuQmCC",
     "contentType": "image/png",
     "groupId": "0",
     "height": 20,
     "width": 20,
     "layerId": 1,
     "layerName": "Waco City Limits"
    }
   ],
   "layerId": 1,
   "layerName": "Waco City Limits",
   "serviceItemId": "8c71148afff84b68bc985542592ec81e"
  },
  {
   "id": 2,
   "name": "McLennan County Line",
   "parentLayerId": -1,
   "defaultVisibility": true,
   "subLayerIds": null,
   "minScale": 0,
   "maxScale": 0,
   "type": "Feature Layer",
   "geometryType": "esriGeometryPolygon",
   "supportsDynamicLegends": true,
   "legend": [
    {
     "label": "",
     "imageData": "iVBORw0KGgoAAAANSUhEUgAAABQAAAAUCAYAAACNiR0NAAAACXBIWXMAAA7EAAAOxAGVKw4bAAAAMElEQVQ4jWNhYGD4z0BFwEJNw9ANZKTQrP/oBlIFjBo4auCogaMG0t9AqpTcVHchAFY5A0+qdPJ/AAAAAElFTkSuQmCC",
     "contentType": "image/png",
     "groupId": "0",
     "height": 20,
     "width": 20,
     "layerId": 2,
     "layerName": "McLennan County Line"
    }
   ],
   "layerId": 2,
   "layerName": "McLennan County Line",
   "serviceItemId": "8c71148afff84b68bc985542592ec81e"
  },
  {
   "id": 3,
   "name": "2020 County Mosaic Dataset",
   "parentLayerId": -1,
   "defaultVisibility": true,
   "subLayerIds": [
    4,
    5,
    6
   ],
   "minScale": 0,
   "maxScale": 0,
   "type": "Mosaic Layer",
   "supportsDynamicLegends": false,
   "layerId": 3,
   "layerName": "2020 County Mosaic Dataset",
   "serviceItemId": "8c71148afff84b68bc985542592ec81e"
  },
  {
   "id": 4,
   "name": "Boundary",
   "parentLayerId": 3,
   "defaultVisibility": true,
   "subLayerIds": null,
   "minScale": 0,
   "maxScale": 0,
   "type": "Feature Layer",
   "geometryType": "esriGeometryPolygon",
   "supportsDynamicLegends": true,
   "legend": [
    {
     "label": "",
     "imageData": "iVBORw0KGgoAAAANSUhEUgAAABQAAAAUCAYAAACNiR0NAAAACXBIWXMAAA7EAAAOxAGVKw4bAAAALUlEQVQ4jWNhYGD4z0BFwAKlGalk3n8WwmpIA6MGjho4auCogaMGohpItWoAAFaOA08xGWr1AAAAAElFTkSuQmCC",
     "contentType": "image/png",
     "groupId": "0",
     "height": 20,
     "width": 20,
     "layerId": 4,
     "layerName": "Boundary"
    }
   ],
   "layerId": 4,
   "layerName": "Boundary",
   "serviceItemId": "8c71148afff84b68bc985542592ec81e"
  },
  {
   "id": 5,
   "name": "Footprint",
   "parentLayerId": 3,
   "defaultVisibility": false,
   "subLayerIds": null,
   "minScale": 0,
   "maxScale": 0,
   "type": "Feature Layer",
   "geometryType": "esriGeometryPolygon",
   "supportsDynamicLegends": true,
   "legend": [
    {
     "label": "",
     "imageData": "iVBORw0KGgoAAAANSUhEUgAAABQAAAAUCAYAAACNiR0NAAAACXBIWXMAAA7EAAAOxAGVKw4bAAAAMElEQVQ4je3VMREAAAzCwHCHf8t0rQBGIuDXmBCKGQChihbiCvQaOHDgwIEfLG7gAKLtBk2aEx7QAAAAAElFTkSuQmCC",
     "contentType": "image/png",
     "groupId": "0",
     "height": 20,
     "width": 20,
     "layerId": 5,
     "layerName": "Footprint"
    }
   ],
   "layerId": 5,
   "layerName": "Footprint",
   "serviceItemId": "8c71148afff84b68bc985542592ec81e"
  },
  {
   "id": 6,
   "name": "Image",
   "parentLayerId": 3,
   "defaultVisibility": true,
   "subLayerIds": null,
   "minScale": 0,
   "maxScale": 0,
   "type": "Raster Layer",
   "supportsDynamicLegends": true,
   "legend": [
    {
     "label": "Red: Band_1",
     "imageData": "iVBORw0KGgoAAAANSUhEUgAAABQAAAAUCAYAAACNiR0NAAAACXBIWXMAAA7EAAAOxAGVKw4bAAAAMUlEQVQ4jWNhoDJgoZmB/xkY/lNiECMDAyOKgdQCowaOGjhq4KiBdDYQVp5RzUBqAQBgfwJTXu298gAAAABJRU5ErkJggg==",
     "contentType": "image/png",
     "groupId": "0",
     "height": 20,
     "width": 20,
     "layerId": 6,
     "layerName": "Image"
    },
    {
     "label": "Green: Band_2",
     "imageData": "iVBORw0KGgoAAAANSUhEUgAAABQAAAAUCAYAAACNiR0NAAAACXBIWXMAAA7EAAAOxAGVKw4bAAAAL0lEQVQ4jWNhoDJgoZ2B/xn+U2QSIwMjqoFUAqMGjho4auCogfQ2EFqeUc9AKgEAX34CUy+sLnAAAAAASUVORK5CYII=",
     "contentType": "image/png",
     "groupId": "0",
     "height": 20,
     "width": 20,
     "layerId": 6,
     "layerName": "Image"
    },
    {
     "label": "Blue: Band_3",
     "imageData": "iVBORw0KGgoAAAANSUhEUgAAABQAAAAUCAYAAACNiR0NAAAACXBIWXMAAA7EAAAOxAGVKw4bAAAALUlEQVQ4jWNhoDJgoaGB//9TZhQjI5qB1AGjBo4aOGrgqIF0NxBSnlHRQOoAAF59AlNvIrzVAAAAAElFTkSuQmCC",
     "contentType": "image/png",
     "groupId": "0",
     "height": 20,
     "width": 20,
     "layerId": 6,
     "layerName": "Image"
    }
   ],
   "layerId": 6,
   "layerName": "Image",
   "serviceItemId": "8c71148afff84b68bc985542592ec81e"
  }
 ],
 "initialExtent": {
  "xmin": -1.0868888747324575E7,
  "ymin": 3659222.118349306,
  "xmax": -1.0771930400252841E7,
  "ymax": 3750845.491130562,
  "spatialReference": {
   "wkid": 102100,
   "latestWkid": 3857
  }
 },
 "fullExtent": {
  "xmin": -1.0868888747324575E7,
  "ymin": 3659222.118349306,
  "xmax": -1.0771930400252841E7,
  "ymax": 3750845.491130562,
  "spatialReference": {
   "wkid": 102100,
   "latestWkid": 3857
  }
 },
 "minScale": 0,
 "maxScale": 0,
 "exportTilesAllowed": false,
 "maxExportTilesCount": 0,
 "currentVersion": 11.5,
 "mapName": "WacoAerialHybrid2020",
 "singleFusedMapCache": true,
 "type": "MapServer",
 "supportedExtensions": "",
 "capabilities": "TilesOnly,Tilemap",
 "serviceItemId": "8c71148afff84b68bc985542592ec81e"
}
